BEGIN:VCALENDAR
VERSION:2.0
METHOD:PUBLISH
PRODID::-//Obvius//NONSGML ICal//DA
BEGIN:VEVENT
UID:4411584@ifro.ku.dk
DESCRIPTION:PhD defence\, Paula Ugarte Lucas\, Department of Food and Reso
 urce Economics\, University of Copenhagen.\n\nhttps://ifro.ku.dk/english/e
 vents/2023/paula-lucas-phd-defence/
SUMMARY:PhD defence: Public perception of the use of woody biomass for ene
 rgy
CATEGORIES:Ph.d.-forsvar
LOCATION:Auditorium A3. 24-11\, Rolighedsvej 23\, 1958 Frederiksberg C.
ORGANIZER:Department of Food and Resource Economics (IFRO)\, University of
  Copenhagen
DTSTART:20230120T120000Z
DTSTAMP:20230120T120000Z
DTEND:20230120T150000Z
END:VEVENT
END:VCALENDAR
